BEGIN:VCALENDAR
PRODID:-//eluceo/ical//2.0/EN
VERSION:2.0
CALSCALE:GREGORIAN
BEGIN:VEVENT
UID:a2a92b4d4ef82c374987ff7c6906929f
DTSTAMP:20260422T143952Z
SUMMARY:Movie: "The Forgotten Refugees"
DESCRIPTION:Jewish Federation of West-Central New Jersey\nCommunity Calenda
 r\nhttps://jfedwcnj.org/calendar/movie-the-forgotten-refugees-1416326527\n
 \nThe Forgotten Refugees explores the history\, culture\, and forced exodu
 s of Middle Eastern and North African Jewish communities in the second hal
 f of the 20th century. It uses extensive testimony of refugees telling per
 sonal stories along with dramatic archival footage of rescue missions\, hi
 storic images of exodus and resettlement\, and analyses by contemporary sc
 holars.
DTSTART;TZID=America/New_York:20150208T200000
DTEND;TZID=America/New_York:20150208T220000
END:VEVENT
END:VCALENDAR
