BEGIN:VCALENDAR
PRODID:-//eluceo/ical//2.0/EN
VERSION:2.0
CALSCALE:GREGORIAN
BEGIN:VEVENT
UID:184f9d51b6eca3c9262e56ab4cf053cb
DTSTAMP:20260422T155811Z
SUMMARY:Movie: "Honor Diaries"
DESCRIPTION:Jewish Federation of West-Central New Jersey\nCommunity Calenda
 r\nhttps://jfedwcnj.org/calendar/movie-honor-diaries-1416264016\n\nHonor D
 iaries features nine courageous women's rights advocates with connections 
 to Muslim-majority societies who are engaged in a dialogue about gender in
 equality. These women are profiled in their efforts to affect change\, bot
 h in their communities and beyond. Freedom of movement\, the right to educ
 ation\, forced marriage\, and female genital mutilation are some of the sy
 stematic abuses explored in depth.
DTSTART;TZID=America/New_York:20141207T200000
DTEND;TZID=America/New_York:20141207T220000
END:VEVENT
END:VCALENDAR
