BEGIN:VCALENDAR
PRODID:-//eluceo/ical//2.0/EN
VERSION:2.0
CALSCALE:GREGORIAN
BEGIN:VEVENT
UID:642e171ec6d1a0bb851dea65239abe2a
DTSTAMP:20260423T045019Z
SUMMARY:Mortgage Celebration!
DESCRIPTION:Jewish Federation of West-Central New Jersey\nCommunity Calenda
 r\nhttps://jfedwcnj.org/calendar/mortgage-celebration\n\nA celebration wit
 h the Secure Our Future Committee in celebrating the successful closing of
  the Mortgage Campaign.\n\nInvite only.
DTSTART;TZID=America/New_York:20160223T190000
DTEND;TZID=America/New_York:20160223T210000
END:VEVENT
END:VCALENDAR
