BEGIN:VCALENDAR
PRODID:-//eluceo/ical//2.0/EN
VERSION:2.0
CALSCALE:GREGORIAN
BEGIN:VEVENT
UID:af06af22fdbcfd6d7b48c3b31bea5de1
DTSTAMP:20260423T200105Z
SUMMARY:Money Smart for Older Adults: How to Avoid Fraud and Scams
DESCRIPTION:Jewish Federation of West-Central New Jersey\nCommunity Calenda
 r\nhttps://jfedwcnj.org/calendar/money-smart-for-older-adults-how-to-avoid
 -fraud-and-scams-1550073114\n\nPresented by Bernie Sokal\, MoneyCare Finan
 cial\, LLC.\nFinancial exploitation has been called the “crime of the 21
 st century\,” with one study suggesting that older Americans lost at lea
 st $2.9 billion to financial exploitation in 2010 by a broad spectrum of p
 erpetrators\, including people they know and trust\, as well as strangers.
  Cognitive impairment diminishes the ability of some older adults to make 
 financial decisions and to detect fraud and scams. This seminar is designe
 d to provide yo...
DTSTART;TZID=America/New_York:20190313T160000
DTEND;TZID=America/New_York:20190313T180000
END:VEVENT
END:VCALENDAR
