BEGIN:VCALENDAR
PRODID:-//eluceo/ical//2.0/EN
VERSION:2.0
CALSCALE:GREGORIAN
BEGIN:VEVENT
UID:64854522db4960f45a5144781b0da28e
DTSTAMP:20260422T201035Z
SUMMARY:MOMENTS OF PRIDE THROUGH ISRAELI INNOVATION
DESCRIPTION:Jewish Federation of West-Central New Jersey\nCommunity Calenda
 r\nhttps://jfedwcnj.org/calendar/moments-of-pride-through-israeli-innovati
 on\n\nShowcasing Israel’s culture of innovation through the eyes of thr
 ee social entrepreneurs/leaders in cyber security\, agriculture\, and eme
 rgency health care advances.
DTSTART;TZID=America/New_York:20210414T200000
DTEND;TZID=America/New_York:20210414T210000
END:VEVENT
END:VCALENDAR
