BEGIN:VCALENDAR
PRODID:-//eluceo/ical//2.0/EN
VERSION:2.0
CALSCALE:GREGORIAN
BEGIN:VEVENT
UID:8a99b1472e00b1f5aa33e793bc1c4aa6
DTSTAMP:20260421T113610Z
SUMMARY:MLK Jr. Day of Service - Food Drive and Sorting Event
DESCRIPTION:Jewish Federation of West-Central New Jersey\nCommunity Calenda
 r\nhttps://jfedwcnj.org/calendar/mlk-jr-day-of-service---food-drive-and-so
 rting-event-1577994990\n\nPlease join us in supporting the Franklin Food B
 ank as we collect food items to serve the needs of our local community.\nF
 rom now until January 20th\, drop off non-perishable food items that have 
 not exceeded their expiration date at any of our buildings.\nThen\, bring 
 the entire family and join us as we sort and organize our donations on Mar
 tin Luther King\, Jr. Day! Sorting will take place during two time slots f
 rom 9:00am - 11:00am and 1:00pm - 3:00pm.\nThere will be activities for th
 e kids t...
DTSTART;TZID=America/New_York:20200120T090000
DTEND;TZID=America/New_York:20200120T150000
END:VEVENT
END:VCALENDAR
