BEGIN:VCALENDAR
PRODID:-//eluceo/ical//2.0/EN
VERSION:2.0
CALSCALE:GREGORIAN
BEGIN:VEVENT
UID:f19dc2d380583da9fbe649f206458ce2
DTSTAMP:20260423T183409Z
SUMMARY:Mimouna Celebration
DESCRIPTION:Jewish Federation of West-Central New Jersey\nCommunity Calenda
 r\nhttps://jfedwcnj.org/calendar/mimouna-celebration\n\nParty for the whol
 e family. Darbuka Live\, Henna Tattoos\, Crafts\, Dairy Dinner\, Moroccan
  Treats\n\n​Mimouna is a traditional Moroccan Jewish celebration held im
 mediately after Passover\, marking the return to eating leavened foods pro
 hibited during the holiday.It's a joyous occasion that brings together fam
 ily\, friends\, and neighbors to share delicious sweets\, music\, and cult
 ural traditions.\n\nThe event is family-friendly\, offering activities suc
 h as storytelling\, traditional music\, and dan...
DTSTART;TZID=America/New_York:20250421T180000
DTEND;TZID=America/New_York:20250421T200000
END:VEVENT
END:VCALENDAR
