BEGIN:VCALENDAR
PRODID:-//eluceo/ical//2.0/EN
VERSION:2.0
CALSCALE:GREGORIAN
BEGIN:VEVENT
UID:54764c1dde1fc903ef8e39e68446c0f2
DTSTAMP:20260422T135339Z
SUMMARY:Mimouna – Passover Celebration
DESCRIPTION:Jewish Federation of West-Central New Jersey\nCommunity Calenda
 r\nhttps://jfedwcnj.org/calendar/mimouna--passover-celebration-1555093563\
 n\nMimouna is a tradition practiced by Moroccan and Turkish Sephardic Jews
  worldwide at sundown on the 8th night of Passover. It is a celebration of
  freedom\, community\, values\, togetherness\, friendship\, and is a demon
 stration of great hospitality.\n\n$15 per person\nUnder 2 yrs. of age are 
 FREE
DTSTART;TZID=America/New_York:20190428T170000
DTEND;TZID=America/New_York:20190428T190000
END:VEVENT
END:VCALENDAR
