BEGIN:VCALENDAR
PRODID:-//eluceo/ical//2.0/EN
VERSION:2.0
CALSCALE:GREGORIAN
BEGIN:VEVENT
UID:73d602e55f916579036afd2fd766c25e
DTSTAMP:20260423T034021Z
SUMMARY:MIMI LEMAY\, WHAT WE WILL BECOME
DESCRIPTION:Jewish Federation of West-Central New Jersey\nCommunity Calenda
 r\nhttps://jfedwcnj.org/calendar/mimi-lemay-what-we-will-become-1600782283
 \n\nMimi Lemay recounts her memoir of her transgender child&rsquo\;s odyss
 ey\, and her journey outside the boundaries of the faith and culture that 
 shaped her.\n\n From the age of two-and-a-half\, Jacob\, born &ldquo\;Em\,
 &rdquo\; adamantly told his family he was a boy. While his mother Mimi str
 uggled to understand and come to terms with the fact that her child may be
  transgender\, she experienced a sense of d&eacute\;j&agrave\; vu&mdash\;t
 he journey to uncover the source of her child&rsquo\;s inner turmoil unear
 thed ghosts from Mimi&rsquo\;s past and her...
DTSTART;TZID=America/New_York:20201120T140000
DTEND;TZID=America/New_York:20201120T150000
END:VEVENT
END:VCALENDAR
