BEGIN:VCALENDAR
PRODID:-//eluceo/ical//2.0/EN
VERSION:2.0
CALSCALE:GREGORIAN
BEGIN:VEVENT
UID:4e8034257283d5eafc1aeef26e8261ee
DTSTAMP:20260424T064203Z
SUMMARY:Middle School learning through Experience - Day 2
DESCRIPTION:Jewish Federation of West-Central New Jersey\nCommunity Calenda
 r\nhttps://jfedwcnj.org/calendar/middle-school-learning-through-experience
 -day-2\n\nDay 2
DTSTART;TZID=America/New_York:20170504T090000
DTEND;TZID=America/New_York:20170504T123000
END:VEVENT
END:VCALENDAR
