BEGIN:VCALENDAR
PRODID:-//eluceo/ical//2.0/EN
VERSION:2.0
CALSCALE:GREGORIAN
BEGIN:VEVENT
UID:d1c51d35d1db34f58a224e3d0f6a68e7
DTSTAMP:20260421T101954Z
SUMMARY:Michael Solomonov Passover Cooking Demonstration
DESCRIPTION:Jewish Federation of West-Central New Jersey\nCommunity Calenda
 r\nhttps://jfedwcnj.org/calendar/michael-solomonov-passover-cooking-demons
 tration\n\nPassover Cooking Demonstration with Michael Solomonov\, James B
 eard Award Winner\, Owner & Executive Chef Zahav\, Philadelphia.\n\n 
DTSTART;TZID=America/New_York:20210317T190000
DTEND;TZID=America/New_York:20210317T200000
END:VEVENT
END:VCALENDAR
