BEGIN:VCALENDAR
PRODID:-//eluceo/ical//2.0/EN
VERSION:2.0
CALSCALE:GREGORIAN
BEGIN:VEVENT
UID:ff6f039384c2afd64aa47c1f38336362
DTSTAMP:20260423T062208Z
SUMMARY:MICHAEL IAN BLACK\, A BETTER MAN & CLEO STILLER\, MODERN MANHOOD
DESCRIPTION:Jewish Federation of West-Central New Jersey\nCommunity Calenda
 r\nhttps://jfedwcnj.org/calendar/michael-ian-black-a-better-man--cleo-stil
 ler-modern-manhood-1600781798\n\nMichael Ian Black\, A Better Man: A (Most
 ly Serious) Letter to My Son\n\n A poignant look at boyhood\, in the form 
 of a heartfelt letter from comedian\, actor\, and author\, and father Mich
 ael Ian Black to his teenage son before he leaves for college\, and a radi
 cal plea for rethinking masculinity and teaching young men to give and rec
 eive love.\n\n In a world in which the word masculinity now often goes han
 d in hand with toxic\,  Black offers up a way forward for boys\, men\, and
  anyone who loves...
DTSTART;TZID=America/New_York:20201118T200000
DTEND;TZID=America/New_York:20201118T220000
END:VEVENT
END:VCALENDAR
