BEGIN:VCALENDAR
PRODID:-//eluceo/ical//2.0/EN
VERSION:2.0
CALSCALE:GREGORIAN
BEGIN:VEVENT
UID:c1a8c6e8e50301d061f3fefa897a44df
DTSTAMP:20260423T093513Z
SUMMARY:Meet the Authors  at the FJCCThe Thread Collectors
DESCRIPTION:Jewish Federation of West-Central New Jersey\nCommunity Calenda
 r\nhttps://jfedwcnj.org/calendar/meet-the-authors-at-the-fjccthe-thread-co
 llectors\n\nThe story of a Black woman in New Orleans and a Jewish woman i
 n New York\, both of whom are fighting for the cause of freedom and the Un
 ion victory through their needlework.
DTSTART;TZID=America/New_York:20230206T190000
DTEND;TZID=America/New_York:20230206T210000
END:VEVENT
END:VCALENDAR
