BEGIN:VCALENDAR
PRODID:-//eluceo/ical//2.0/EN
VERSION:2.0
CALSCALE:GREGORIAN
BEGIN:VEVENT
UID:6de4862e02640dd2b9360730b5bdd1b1
DTSTAMP:20260423T050835Z
SUMMARY:Meet and Greet with the Somerset County Sheriff
DESCRIPTION:Jewish Federation of West-Central New Jersey\nCommunity Calenda
 r\nhttps://jfedwcnj.org/calendar/meet-and-greet-with-the-somerset-county-s
 heriff\n\nJoin the Jewish Federation of West-Central New Jersey for a meet
  & greet with the Somerset County Sheriff Darrin J. Russo for a evening of
  open conversation with the Sheriff and his staff. \n\nFor more infromati
 on please reach out to Lauren Edelman at 908-758-2003 or ledelman@jfedwcnj
 .org 
DTSTART;TZID=America/New_York:20240718T173000
DTEND;TZID=America/New_York:20240718T190000
END:VEVENT
END:VCALENDAR
