BEGIN:VCALENDAR
PRODID:-//eluceo/ical//2.0/EN
VERSION:2.0
CALSCALE:GREGORIAN
BEGIN:VEVENT
UID:a6c357e3ecfc2de0fd1795400c2b9aca
DTSTAMP:20260424T153525Z
SUMMARY:May Jewish Federation Board Meeting
DESCRIPTION:Jewish Federation of West-Central New Jersey\nCommunity Calenda
 r\nhttps://jfedwcnj.org/calendar/may-jewish-federation-board-meeting\n\nMa
 y Jewish Federation Board Meeting
DTSTART;TZID=America/New_York:20160517T183000
DTEND;TZID=America/New_York:20160517T210000
END:VEVENT
END:VCALENDAR
