BEGIN:VCALENDAR
PRODID:-//eluceo/ical//2.0/EN
VERSION:2.0
CALSCALE:GREGORIAN
BEGIN:VEVENT
UID:5c36cdca8a464d8db406abda540d6f02
DTSTAMP:20260424T054034Z
SUMMARY:Marilyn Simon Rothstein Lift and Separate
DESCRIPTION:Jewish Federation of West-Central New Jersey\nCommunity Calenda
 r\nhttps://jfedwcnj.org/calendar/marilyn-simon-rothstein-lift-and-separate
 \n\nThis novel tells the story of a Jewish mother of three grown children 
 whose husband left her for a younger model\, tries her best to conquer fam
 ily weddings by herself\, divided loyalties\, and the news that her husban
 d’s pretty young chippy is now pregnant…oy!!! It’s time for her to p
 ull herself up by her lacy bra straps and find a way to begin life again\,
  second time around! Marilyn does a great job cramming in lots of hilariou
 s scenarios for everyone to discuss!\n\nMarilyn Simon Rothste...
DTSTART;TZID=America/New_York:20180222T190000
DTEND;TZID=America/New_York:20180222T210000
END:VEVENT
END:VCALENDAR
