BEGIN:VCALENDAR
PRODID:-//eluceo/ical//2.0/EN
VERSION:2.0
CALSCALE:GREGORIAN
BEGIN:VEVENT
UID:773e0498c166f274a98bacfeec31f9f7
DTSTAMP:20260422T033135Z
SUMMARY:March Mitzvah Madness: Bingo Night Supporting the Elle Foundation
DESCRIPTION:Jewish Federation of West-Central New Jersey\nCommunity Calenda
 r\nhttps://jfedwcnj.org/calendar/march-mitzvah-madness-bingo-night-support
 ing-the-elle-foundation-1456783266\n\nCome have fun playing Bingo while yo
 u help the Elle Foundation.  They create memories of joy for children with
  cancer by granting final wishes for children battling a recurrence of can
 cer. Doors Open at 6:15 pm  Bingo Begins at 7:00 pm \n\n10 Games will be p
 layed. Prizes will be awarded\, no cash.  All players are invited to bring
  food and beverages of choice to enjoy at their tables.  $25/ Advance or $
 30/ at Door.   Includes 6 Face On ( Additional cards available for purchas
 e.)
DTSTART;TZID=America/New_York:20160316T181500
DTEND;TZID=America/New_York:20160316T210000
END:VEVENT
END:VCALENDAR
