BEGIN:VCALENDAR
PRODID:-//eluceo/ical//2.0/EN
VERSION:2.0
CALSCALE:GREGORIAN
BEGIN:VEVENT
UID:6ae542f8ff43be50fd06bbac0e0177ea
DTSTAMP:20260421T211930Z
SUMMARY:March Mitzvah- Zumbathom
DESCRIPTION:Jewish Federation of West-Central New Jersey\nCommunity Calenda
 r\nhttps://jfedwcnj.org/calendar/march-mitzvah--zumbathom-1456781654\n\nCo
 me Zumba. Give Hope to a Child with a Brain Tumor. Raising funds for the C
 hildren&rsquo\;s Brain Tumor Project children-tumor-foundation to bring ho
 pe to the hundreds of patients and families each year who confront the hea
 rtbreaking diagnoses of rare and inoperable pediatric brain tumors. \nPre-
 register price: $15/JCC Member or $20/Non-JCC Member\nDay of event price: 
 $20/JCC Member or $25/Non-JCC Member\nInstructors: Heidy Jaramillo and Mar
 ia Recurt  This event is being supported by Athleta of...
DTSTART;TZID=America/New_York:20160312T130000
DTEND;TZID=America/New_York:20160312T150000
END:VEVENT
END:VCALENDAR
