BEGIN:VCALENDAR
PRODID:-//eluceo/ical//2.0/EN
VERSION:2.0
CALSCALE:GREGORIAN
BEGIN:VEVENT
UID:3113f470af65ce051d41d27e5de12453
DTSTAMP:20260422T080202Z
SUMMARY:March Madness at Temple Sholom
DESCRIPTION:Jewish Federation of West-Central New Jersey\nCommunity Calenda
 r\nhttps://jfedwcnj.org/calendar/march-madness-at-temple-sholom-1520617337
 \n\nCome join us for March Madness:  Lunch& Games: $10 per person  5 and u
 nder free  Food: Madness includes pizza\, salad \, snacks and dessert  The
  fun continues with:  March Madness games  our very own Temple Sholom bask
 etball game( Weather permitting) Movies and crafts  And more.....
DTSTART;TZID=America/New_York:20180318T120000
DTEND;TZID=America/New_York:20180318T150000
END:VEVENT
END:VCALENDAR
