BEGIN:VCALENDAR
PRODID:-//eluceo/ical//2.0/EN
VERSION:2.0
CALSCALE:GREGORIAN
BEGIN:VEVENT
UID:efdaa33c7577deac592e4adfb3e0c2ac
DTSTAMP:20260422T154516Z
SUMMARY:Making Jewish Choices
DESCRIPTION:Jewish Federation of West-Central New Jersey\nCommunity Calenda
 r\nhttps://jfedwcnj.org/calendar/making-jewish-choices\n\nInstructor: Rabb
 i Jack Kramer \nDate: Saturday\, November 21 T\nime: 7:30 pm\nLocation: C
 KI\n\n \n\n​If we are Jewish\, are all of our choices Jewish choices? I
 n what ways can our Jewishness affect the choices that we make? We will di
 scuss some halacha and customs that inform our choices (e.g.\, lashon hora
 ). See how making choices in a Jewish framework can improve your social in
 teractions and your life. Please email at info@ckibbnj.org with any questi
 ons
DTSTART;TZID=America/New_York:20151121T193000
DTEND;TZID=America/New_York:20151121T210000
END:VEVENT
END:VCALENDAR
