BEGIN:VCALENDAR
PRODID:-//eluceo/ical//2.0/EN
VERSION:2.0
CALSCALE:GREGORIAN
BEGIN:VEVENT
UID:8bb5f43dbc919adf0cfe8199859d450e
DTSTAMP:20260421T032533Z
SUMMARY:Making David into Goliath: How the World Turned Against Israel
DESCRIPTION:Jewish Federation of West-Central New Jersey\nCommunity Calenda
 r\nhttps://jfedwcnj.org/calendar/making-david-into-goliath-how-the-world-t
 urned-against-israel-1458141695\n\nJoshua Muravchik is a fellow at the For
 eign Policy Institute of Johns Hopkins University&#039\;s School of Advanc
 ed International Studies and an adjunct professor at the DC based Institut
 e of World politics.  He has written 11 books on American and world politi
 cs and hundreds of articles in magazines and newspapers on politics\, hist
 ory\, and international affairs.\n\nDuring the Six day War of 1967\, both 
 Americans and Europe supported Israel without reservations. Forty years la
 ter Israel has become...
DTSTART;TZID=America/New_York:20160327T113000
DTEND;TZID=America/New_York:20160327T130000
END:VEVENT
END:VCALENDAR
