BEGIN:VCALENDAR
PRODID:-//eluceo/ical//2.0/EN
VERSION:2.0
CALSCALE:GREGORIAN
BEGIN:VEVENT
UID:79262bf5166c14099d0c33bc7d448d74
DTSTAMP:20260423T185419Z
SUMMARY:Make 2019 Your Healthiest Year Ever
DESCRIPTION:Jewish Federation of West-Central New Jersey\nCommunity Calenda
 r\nhttps://jfedwcnj.org/calendar/make-2019-your-healthiest-year-ever-15499
 18379\n\nMake 2019 Your Healthiest Year Ever: Come Learn How From a Panel 
 of Primary Care Providers Providers\nFree and open to the Community
DTSTART;TZID=America/New_York:20190317T103000
DTEND;TZID=America/New_York:20190317T120000
END:VEVENT
END:VCALENDAR
