BEGIN:VCALENDAR
PRODID:-//eluceo/ical//2.0/EN
VERSION:2.0
CALSCALE:GREGORIAN
BEGIN:VEVENT
UID:d3f45536cf5ddd2ef40fb463ca3fed38
DTSTAMP:20260423T092756Z
SUMMARY:Maimonides Society Medical Ethics program about Organ Donation
DESCRIPTION:Jewish Federation of West-Central New Jersey\nCommunity Calenda
 r\nhttps://jfedwcnj.org/calendar/maimonides-society-medical-ethics-program
 -about-organ-donation\n\nThe Ethical Dilemmas of Transplant Medicine \n\n
 Join us for a lively conversation exploring the moral and ethical concerns
  from both the medical and Jewish perspective.\n\nFeaturing Guest Speakers
 : \n\nRabbi Mendel Shemtov\nChabad Jewish Center of Greater Somerset Coun
 ty \n\nLauren Michaels\, MSN\, RN\, CCRN\nRobert Wood Johnson University 
 Hospital Somerset\n\nFree to Maimonoides Society Members\n\n$18 for Non Me
 mbers\n\nFor more information or questions please contact Lauren Edelman a
 t 908-7...
DTSTART;TZID=America/New_York:20230515T190000
DTEND;TZID=America/New_York:20230515T210000
END:VEVENT
END:VCALENDAR
