BEGIN:VCALENDAR
PRODID:-//eluceo/ical//2.0/EN
VERSION:2.0
CALSCALE:GREGORIAN
BEGIN:VEVENT
UID:236f5b27c3b0dd8bf9874cd328faf785
DTSTAMP:20260423T021218Z
SUMMARY:Mah Jongg Tournament
DESCRIPTION:Jewish Federation of West-Central New Jersey\nCommunity Calenda
 r\nhttps://jfedwcnj.org/calendar/mah-jongg-tournament\n\nBenefitting the J
 CC Scholarship Fund\n\nDoors Open: 8:45 am • Tournament begins: 9:30 am\
 nTournament Rules provided by the Mah Jongg League\n\nMorning nosh and lun
 ch.\n\nCost: $55 per person.
DTSTART;TZID=America/New_York:20170122T084500
DTEND;TZID=America/New_York:20170122T120000
END:VEVENT
END:VCALENDAR
