BEGIN:VCALENDAR
PRODID:-//eluceo/ical//2.0/EN
VERSION:2.0
CALSCALE:GREGORIAN
BEGIN:VEVENT
UID:d8797ee3589750397efb3302a5def844
DTSTAMP:20260421T122253Z
SUMMARY:Mache M. Seibel: The Estrogen Window
DESCRIPTION:Jewish Federation of West-Central New Jersey\nCommunity Calenda
 r\nhttps://jfedwcnj.org/calendar/mache-m-seibel-the-estrogen-window\n\nThe
  Breakthrough Guide to Being Healthy\, Energized\, and Hormonally Balanced
 - Through Perimenopause\, Menopause\, and Beyond\n\nDr. Mache Seibel\, an 
 international health expert on women's wellness and menopause\, presents g
 round breaking research explaining how every woman has a window of opportu
 nity to begin estrogen replacement. If begun at the right time\, estrogen 
 can lower the risk of breast cancer\, Alzheimer's disease\, while minimizi
 ng menopausal symptoms like hot flashes\, night sweats\, and ...
DTSTART;TZID=America/New_York:20170316T123000
DTEND;TZID=America/New_York:20170316T143000
END:VEVENT
END:VCALENDAR
