BEGIN:VCALENDAR
PRODID:-//eluceo/ical//2.0/EN
VERSION:2.0
CALSCALE:GREGORIAN
BEGIN:VEVENT
UID:7c933a26d2f3b830e43c5c851915c802
DTSTAMP:20260422T161204Z
SUMMARY:Maccabeats Concert in East Brunswick on March 1st
DESCRIPTION:Jewish Federation of West-Central New Jersey\nCommunity Calenda
 r\nhttps://jfedwcnj.org/calendar/maccabeats-concert-in-east-brunswick-on-m
 arch-1st-1424147457\n\nMaccabeats Concert in East Brunswick on March 1st\n
 \n          Temple B&#039\;nai Shalom will present The Maccabeats in conce
 rt on Sunday\, March 1st at 4:00pm.\n          Originally formed in 2007 a
 s Yeshiva University&rsquo\;s student vocal group\, the Maccabeats have re
 cently emerged as both a Jewish music and a cappella phenomena\, with a la
 rge fanbase\, more than 20 million views on YouTube\, numerous TV appearan
 ces and proven success with three albums: 2010&prime\;s Voices From The He
 ights\, 2012&prime\;s Out Of The...
DTSTART;TZID=America/New_York:20150301T160000
DTEND;TZID=America/New_York:20150301T173000
END:VEVENT
END:VCALENDAR
