BEGIN:VCALENDAR
PRODID:-//eluceo/ical//2.0/EN
VERSION:2.0
CALSCALE:GREGORIAN
BEGIN:VEVENT
UID:2ce73dfb56184bfcc64193b50de8224b
DTSTAMP:20260421T162250Z
SUMMARY:Livestream Event with Christine Todd Whitman
DESCRIPTION:Jewish Federation of West-Central New Jersey\nCommunity Calenda
 r\nhttps://jfedwcnj.org/calendar/livestream-event-with-christine-todd-whit
 man\n\nMorristown Jewish Center Beit Yisrael\nInvites You to a Livestream 
 Event with\nCHRISTINE TODD WHITMAN\n\n\nThe discussion is expected to cove
 r the current and future state of politics (state-wide and nationally)\, h
 er legacy as NJ Governor\, her experience as EPA Administrator in the Bush
  Administration\, and topics raised in the Q&A session. The event will be 
 moderated by Michael Aron\, an award-winning journalist who has served as 
 chief political correspondent for New Jersey public television n...
DTSTART;TZID=America/New_York:20220405T193000
DTEND;TZID=America/New_York:20220405T203000
END:VEVENT
END:VCALENDAR
