BEGIN:VCALENDAR
PRODID:-//eluceo/ical//2.0/EN
VERSION:2.0
CALSCALE:GREGORIAN
BEGIN:VEVENT
UID:4aae5225acc2174f2fa8e8034385c546
DTSTAMP:20260422T155801Z
SUMMARY:Live on Stage: Letters from Anne And Martin
DESCRIPTION:Jewish Federation of West-Central New Jersey\nCommunity Calenda
 r\nhttps://jfedwcnj.org/calendar/live-on-stage-letters-from-anne-and-marti
 n\n\n Live on stage\, Letters from Anne and Martin\, a theatrical perfo
 rmance that combines the iconic voices of Anne Frank and Martin Luther Kin
 g Jr. in an exploration of the persecution they faced and their struggles 
 to maintain hope for humanity in the face of hatred and violence. Registra
 tion will be available shortly for this hybrid event\, available at no cos
 t online and in person. Appropriated for middle school students and up. \
 n\nTo register: https://raritanval-edu.zoom.us/webinar/regis...
DTSTART;TZID=America/New_York:20240226T100000
DTEND;TZID=America/New_York:20240226T110000
END:VEVENT
END:VCALENDAR
