BEGIN:VCALENDAR
PRODID:-//eluceo/ical//2.0/EN
VERSION:2.0
CALSCALE:GREGORIAN
BEGIN:VEVENT
UID:f5a0a65221dcf6d9b78ff28b4d84995e
DTSTAMP:20260422T213425Z
SUMMARY:Little White Lie A film about self-discovery
DESCRIPTION:Jewish Federation of West-Central New Jersey\nCommunity Calenda
 r\nhttps://jfedwcnj.org/calendar/little-white-lie-a-film-about-self-discov
 ery-1414530289\n\nLacey Schwartz\, a 37-year-old Harvard Law School gradua
 te turned filmmaker\, moves with ease in circles in which her identity as 
 both black and Jewish seems unremarkable. What makes her biography strikin
 g is that Ms. Schwartz\, a woman with light brown skin and a cascade of da
 rk curls\, grew up believing she was white. Film will be followed by a dis
 cussion with Lacey Schwartz the subject of the film.
DTSTART;TZID=America/New_York:20150211T190000
DTEND;TZID=America/New_York:20150211T210000
END:VEVENT
END:VCALENDAR
