BEGIN:VCALENDAR
PRODID:-//eluceo/ical//2.0/EN
VERSION:2.0
CALSCALE:GREGORIAN
BEGIN:VEVENT
UID:1df8549aba7ec4d18932594a5f0da6be
DTSTAMP:20260423T105655Z
SUMMARY:Lights & Latkes
DESCRIPTION:Jewish Federation of West-Central New Jersey\nCommunity Calenda
 r\nhttps://jfedwcnj.org/calendar/lights--latkes-1669738985\n\nLights & Lat
 kes TUESDAY\, DEC 20TH 6:00P TO 8:00P Tickets are $18 per family. You may 
 purchase by check (mailed to CBI) or for other purchase methods please acc
 ess our Givebutter site https://givebutter.com/175P20 after submitting the
  below Google form to RSVP. https://forms.gle/rhEoiDVbQCXUJARC8
DTSTART;TZID=America/New_York:20221220T180000
DTEND;TZID=America/New_York:20221220T200000
END:VEVENT
END:VCALENDAR
