BEGIN:VCALENDAR
PRODID:-//eluceo/ical//2.0/EN
VERSION:2.0
CALSCALE:GREGORIAN
BEGIN:VEVENT
UID:e51df3fa5a0479dedc22df30f0af28c0
DTSTAMP:20260422T085647Z
SUMMARY:Lifelong Learning: Jewish Bioethics During a Global Pandemic
DESCRIPTION:Jewish Federation of West-Central New Jersey\nCommunity Calenda
 r\nhttps://jfedwcnj.org/calendar/lifelong-learning-jewish-bioethics-during
 -a-global-pandemic-1640986349\n\nWhat do our Jewish texts teach us about c
 risis decision making during a global pandemic?
DTSTART;TZID=America/New_York:20220109T103000
DTEND;TZID=America/New_York:20220109T120000
END:VEVENT
END:VCALENDAR
