BEGIN:VCALENDAR
PRODID:-//eluceo/ical//2.0/EN
VERSION:2.0
CALSCALE:GREGORIAN
BEGIN:VEVENT
UID:9dca72d64c928439f1c7cc4962c453d2
DTSTAMP:20260423T075132Z
SUMMARY:Life Begins at 60
DESCRIPTION:Jewish Federation of West-Central New Jersey\nCommunity Calenda
 r\nhttps://jfedwcnj.org/calendar/life-begins-at-60\n\nA New View on Mother
 hood\, Marriage and Reinventing Ourselves\n\nDr. Frieda Birnbaum rose to 
 fame seven years ago when she gave birth to twin boys in vitro fertilizati
 on at the age of 60. In this candid memoir\, she sheds light on what it's 
 like to raise twins in your 60s. At an age when many people think they sho
 uld slow down\, she is empowered and ready to show the satisfying choice o
 f having children later in life.\n\nDr. Frieda Birnbaum is a research psyc
 hologist and psychoanalyst specializ...
DTSTART;TZID=America/New_York:20161215T123000
DTEND;TZID=America/New_York:20161215T143000
END:VEVENT
END:VCALENDAR
