BEGIN:VCALENDAR
PRODID:-//eluceo/ical//2.0/EN
VERSION:2.0
CALSCALE:GREGORIAN
BEGIN:VEVENT
UID:ec9d419fc3af8fc3fd8c0dd1ee974dd0
DTSTAMP:20260423T095351Z
SUMMARY:Letters to Erich: A Musical Performance and Talk
DESCRIPTION:Jewish Federation of West-Central New Jersey\nCommunity Calenda
 r\nhttps://jfedwcnj.org/calendar/letters-to-erich-a-musical-performance-an
 d-talk-1579711916\n\nTed Rosenthal\, acclaimed American jazz pianist and c
 omposer of the original jazz opera Dear Erich\, and two professional singe
 rs will perform excerpts from his powerful new work. Rosenthal will also d
 iscuss its backstory. Drawing on more than 200 personal letters\, the oper
 a focuses on the correspondence between Rosenthal's grandmother\, trapped 
 in Nazi Germany\, and his father\, Erich\, who was able to immigrate to Ch
 icago.\n\nFeatured Singers:\nMezzo-soprano - Sishel Claverie\nBaritone - P
 eter Ke...
DTSTART;TZID=America/New_York:20200303T193000
DTEND;TZID=America/New_York:20200303T213000
END:VEVENT
END:VCALENDAR
