BEGIN:VCALENDAR
PRODID:-//eluceo/ical//2.0/EN
VERSION:2.0
CALSCALE:GREGORIAN
BEGIN:VEVENT
UID:615b7199690410d89de970efc8633f6b
DTSTAMP:20260423T055217Z
SUMMARY:Lessons from Elie Wiesel on Fighting Hatred and Antisemitism
DESCRIPTION:Jewish Federation of West-Central New Jersey\nCommunity Calenda
 r\nhttps://jfedwcnj.org/calendar/lessons-from-elie-wiesel-on-fighting-hatr
 ed-and-antisemitism\n\nThe THS Israel Committee is pleased to welcome the
  highly esteemed writer and speaker\, Rabbi Dr. Ariel Burger to our Templ
 e on Sunday\, April 10th for an interactive event in person and via Zoom.
  Rabbi Dr. Ariel Burger will be joining us virtually for this thought-pr
 ovoking\, educational\, and interactive free program. He will begin his on
 e hour talk at 10:00 AM\, and it will be followed by a Q&A session.\n\nRa
 bbi Dr. Burger is the founding director and senior scholar of The Witness 
 Institut...
DTSTART;TZID=America/New_York:20220410T094500
DTEND;TZID=America/New_York:20220410T113000
END:VEVENT
END:VCALENDAR
