BEGIN:VCALENDAR
PRODID:-//eluceo/ical//2.0/EN
VERSION:2.0
CALSCALE:GREGORIAN
BEGIN:VEVENT
UID:173880f085d65ecd770042a7b8bb518e
DTSTAMP:20260420T040043Z
SUMMARY:Leibel Mangel - Former Lone Soldier and a Voice of Israel
DESCRIPTION:Jewish Federation of West-Central New Jersey\nCommunity Calenda
 r\nhttps://jfedwcnj.org/calendar/leibel-mangel-former-lone-soldier-and-a-v
 oice-of-israel\n\nFriday\, December 8\n6:45pm services\n7:30pm Dinner & Sp
 eaker\nLocation: CJC-HC\nFee: $18 adults\, $10 children at the door\n($15/
 $8 per-paid)\n\n\nLiebel\, at the age of 19\, left his home in Cincinnati 
 to enlist in the IDF\, where he took part in numerous high profile anti-te
 rror operations. Even after his military discharge\, he has continued his 
 service by fighting for Israel in both the main-stream and social media. L
 iebel was recently nominated for a Jewish People’s Choice award. Join us
  as...
DTSTART;TZID=America/New_York:20171208T184500
DTEND;TZID=America/New_York:20171208T213000
END:VEVENT
END:VCALENDAR
