BEGIN:VCALENDAR
PRODID:-//eluceo/ical//2.0/EN
VERSION:2.0
CALSCALE:GREGORIAN
BEGIN:VEVENT
UID:b4dd5b6d941530907223240113c751b7
DTSTAMP:20260424T154849Z
SUMMARY:Lego Chanukah
DESCRIPTION:Jewish Federation of West-Central New Jersey\nCommunity Calenda
 r\nhttps://jfedwcnj.org/calendar/lego-chanukah\n\nSponsored by Chabad Jewi
 sh Center of Basking Ridge\n\nEver dreamed of building a GIANT menorah out
  of Lego? Well\, dream no more! Celebrate Chanukah with latkes and doughnu
 ts while building a giant Lego menorah.
DTSTART;TZID=America/New_York:20161225T110000
DTEND;TZID=America/New_York:20161225T130000
END:VEVENT
END:VCALENDAR
