BEGIN:VCALENDAR
PRODID:-//eluceo/ical//2.0/EN
VERSION:2.0
CALSCALE:GREGORIAN
BEGIN:VEVENT
UID:995b6ec9b865c495099521b2d6be1295
DTSTAMP:20260422T212008Z
SUMMARY:Learning Through Experience
DESCRIPTION:Jewish Federation of West-Central New Jersey\nCommunity Calenda
 r\nhttps://jfedwcnj.org/calendar/learning-through-experience\n\nLearning T
 hrough Experience (Student & Community Program):\n\nTake a virtual tour of
  The Anne Frank House in Amsterdam and hear from two Holocaust survivors\,
  Maud Dahme & Tova Friedman. There will also be a live Q&A.  November 12
 th\, 10:30 - 11:45 AM EST. Zoom webinar\n\n \n\nExplore the hiding place 
 of Anne Frank and her family in virtual reality with a docent from the mus
 eum in Amsterdam. This guided tour will provide an extraordinary view into
  the Secret Annex where Anne Frank and the se...
DTSTART;TZID=America/New_York:20201112T103000
DTEND;TZID=America/New_York:20201112T114500
END:VEVENT
END:VCALENDAR
