BEGIN:VCALENDAR
PRODID:-//eluceo/ical//2.0/EN
VERSION:2.0
CALSCALE:GREGORIAN
BEGIN:VEVENT
UID:87e5c89891f49cea98105931c0940aad
DTSTAMP:20260422T140732Z
SUMMARY:Learning From Struggles of Racial Injustice Here & Abroad with Susa
 n Neiman
DESCRIPTION:Jewish Federation of West-Central New Jersey\nCommunity Calenda
 r\nhttps://jfedwcnj.org/calendar/learning-from-the-struggles-of-racial-inj
 ustice-both-here-abroad-360983\n\nHosted by the Institute of Holocaust and
  Genocide Studies at Raritan Valley Community College. Thursday\, Septembe
 r 10th at 10 - 11 AM\, join us for this online webinar as we will hear fr
 om Dr. Susan Neiman speaking to us from Germany about her book Learning
  From The Germans Race and the Memory of Evil. To register\, email Michell
 e.Edgar@Raritanval.edu.\n\n \n\nThis program is being co-sponsored by The
  Jewish Federation of Somerset\, Hunterdon\, & Warren Counties\, The New J
 ersey Commission on...
DTSTART;TZID=America/New_York:20200910T100000
DTEND;TZID=America/New_York:20200910T110000
END:VEVENT
END:VCALENDAR
