BEGIN:VCALENDAR
PRODID:-//eluceo/ical//2.0/EN
VERSION:2.0
CALSCALE:GREGORIAN
BEGIN:VEVENT
UID:a78ee1b7776d0c46b2a11ac027ce12fe
DTSTAMP:20260421T005929Z
SUMMARY:Learning Breakfast with Rabbi Katz: "The Amen Effect" by Rabbi Shar
 on Brous
DESCRIPTION:Jewish Federation of West-Central New Jersey\nCommunity Calenda
 r\nhttps://jfedwcnj.org/calendar/learning-breakfast-with-rabbi-katz-the-am
 en-effect-by-rabbi-sharon-brous\n\nIn her book The Amen Effect\, Rabbi Sha
 ron Brous eloquently teaches us to “err on the side of presence.” We n
 eed to be present for those around us… for our family\, for our friends\
 , for strangers.\n\nRabbi Brous writes with passion and intelligence and o
 ne reads her words in the same direct\, close relationship she asks us to 
 have with people in our lives. Sometimes a writer is able to take a simple
  human truth and make us see it in new and powerful ways. Rabbi Brous is a
  gifted writer and...
DTSTART;TZID=America/New_York:20241124T091500
DTEND;TZID=America/New_York:20241124T110000
END:VEVENT
END:VCALENDAR
