BEGIN:VCALENDAR
PRODID:-//eluceo/ical//2.0/EN
VERSION:2.0
CALSCALE:GREGORIAN
BEGIN:VEVENT
UID:14a558210b5730a177e01e16f2be857b
DTSTAMP:20260422T195226Z
SUMMARY:LAWRENCE WRIGHT\, THE END OF OCTOBER: A NOVEL
DESCRIPTION:Jewish Federation of West-Central New Jersey\nCommunity Calenda
 r\nhttps://jfedwcnj.org/calendar/lawrence-wright-the-end-of-october-a-nove
 l-1600781300\n\n&ldquo\;An eerily prescient novel about a devastating viru
 s that begins in Asia before going global . . . A page-turner that has the
  earmarks of an instant bestseller.&rdquo\; &mdash\;New York Post\n\n In t
 his riveting medical thriller&ndash\;from the Pulitzer Prize winner and be
 st-selling author\, Lawrence Wright\n\n&ndash\;Dr. Henry Parsons\, an unli
 kely but appealing hero\, races to find the origins and cure of a mysterio
 us new killer virus as it brings the world to its knees.\n\nAt an internme
 nt camp in Indonesia\,...
DTSTART;TZID=America/New_York:20201114T200000
DTEND;TZID=America/New_York:20201114T210000
END:VEVENT
END:VCALENDAR
