BEGIN:VCALENDAR
PRODID:-//eluceo/ical//2.0/EN
VERSION:2.0
CALSCALE:GREGORIAN
BEGIN:VEVENT
UID:fc1b87fb23c2492ac55e6a3bd4d23aa2
DTSTAMP:20260423T233545Z
SUMMARY:LAUGH LINES- ALAN ZWIEBEL
DESCRIPTION:Jewish Federation of West-Central New Jersey\nCommunity Calenda
 r\nhttps://jfedwcnj.org/calendar/laugh-lines--alan-zwiebel-1600783137\n\nA
 lan Zweibel started his comedy career selling jokes for seven dollars apie
 ce to the last of the Borscht Belt standups. Then one night\, despite bomb
 ing on stage\, he caught the attention of Lorne Michaels and became one of
  the first writers at Saturday Night Live\, where he penned classic materi
 al for Gilda Radner\, John Belushi\, and all of the original Not Ready For
  Prime Time Players. From SNL\, he went on to have a hand in a series of l
 andmark shows—from It’s Garry Shandling’s Show to...
DTSTART;TZID=America/New_York:20210112T190000
DTEND;TZID=America/New_York:20210112T210000
END:VEVENT
END:VCALENDAR
