BEGIN:VCALENDAR
PRODID:-//eluceo/ical//2.0/EN
VERSION:2.0
CALSCALE:GREGORIAN
BEGIN:VEVENT
UID:3b896ea4253a2365c5b591994003acbd
DTSTAMP:20260424T133423Z
SUMMARY:Laugh It Up: Purim Spectacular!
DESCRIPTION:Jewish Federation of West-Central New Jersey\nCommunity Calenda
 r\nhttps://jfedwcnj.org/calendar/laugh-it-up-purim-spectacular\n\nAuthor S
 ara Kopitnikoff  joins us to share her book of children's jokes\, “Only
  Kidding\, My First Book of Jewish Jokes”.\n\nFamily basket making for M
 ishloach Manot Purim baskets by Scrap U & Artistry Too\n\nChildren and ad
 ults are welcome to come dressed in costume!\n\nPurim treats will be serv
 ed.\n\nGreat for children 10 and under! \n$10 per child or $22 per child 
 includes the book (which can be signed by the author!)
DTSTART;TZID=America/New_York:20240317T160000
DTEND;TZID=America/New_York:20240317T173000
END:VEVENT
END:VCALENDAR
