BEGIN:VCALENDAR
PRODID:-//eluceo/ical//2.0/EN
VERSION:2.0
CALSCALE:GREGORIAN
BEGIN:VEVENT
UID:d61205db484fc61c1fb2b3b14a96e1f6
DTSTAMP:20260421T073640Z
SUMMARY:Larry Rosin- Understanding the 2024 Election & the Jewish Vote even
 t
DESCRIPTION:Jewish Federation of West-Central New Jersey\nCommunity Calenda
 r\nhttps://jfedwcnj.org/calendar/larry-rosin-understanding-the-2024-electi
 on--the-jewish-vote-event\n\nUnderstanding the 2024 Election and the Jewis
 h Vote with Larry Rosin President\, Edison Research \n\nDecember 18th \n
 \n7pm \n\n775 Talamini Rd.\, Bridgewater\, NJ 08807 \n\nFree and open to
  the community \n\nQuestions Lauren at 908-758-2003 or ledelman@jfedwcnj.
 org 
DTSTART;TZID=America/New_York:20241218T190000
DTEND;TZID=America/New_York:20241218T210000
END:VEVENT
END:VCALENDAR
