BEGIN:VCALENDAR
PRODID:-//eluceo/ical//2.0/EN
VERSION:2.0
CALSCALE:GREGORIAN
BEGIN:VEVENT
UID:1ef001e4937cb1eb0b0d6c36651c1524
DTSTAMP:20260422T163822Z
SUMMARY:Lag B'omer S'mores Challah Bake
DESCRIPTION:Jewish Federation of West-Central New Jersey\nCommunity Calenda
 r\nhttps://jfedwcnj.org/calendar/lag-bomer-smores-challah-bake-1618336202\
 n\nLet’s celebrate Lag B’Omer together!\nJoin us outdoors\, socially d
 istant with each family on their own table* making the most delicious S’
 MORES Challah\, all supplies and ingredients included!\n\n*Limited amount 
 of tables available\, sign up quickly!
DTSTART;TZID=America/New_York:20210430T153000
DTEND;TZID=America/New_York:20210430T163000
END:VEVENT
END:VCALENDAR
