BEGIN:VCALENDAR
PRODID:-//eluceo/ical//2.0/EN
VERSION:2.0
CALSCALE:GREGORIAN
BEGIN:VEVENT
UID:bc2d13ebd7d29c7d2ced3f2e9b7a9239
DTSTAMP:20260421T235326Z
SUMMARY:Kristallnacht Weekend Holocaust Commemoration
DESCRIPTION:Jewish Federation of West-Central New Jersey\nCommunity Calenda
 r\nhttps://jfedwcnj.org/calendar/kristallnacht-weekend-holocaust-commemora
 tion\n\nThe Commemoration is taking place at Temple Har Shalom (Warren\, N
 J) and is open to the community. The program will start at 1:30 PM with tw
 o 3GNJ speakers\, Jessica Wang and Lisa Margolis\, sharing their grandpare
 nts stories of survival. Weather permitting\, the program will move outdoo
 rs at 2:30 PM with a daffodil bulb planting as part of the worldwide Livin
 g Memorail for children lost in the Holocaust. If you have any questions\
 , please contact Lynn Anne Cutler\, Director of Congregational Lea...
DTSTART;TZID=America/New_York:20211114T133000
DTEND;TZID=America/New_York:20211114T153000
END:VEVENT
END:VCALENDAR
