BEGIN:VCALENDAR
PRODID:-//eluceo/ical//2.0/EN
VERSION:2.0
CALSCALE:GREGORIAN
BEGIN:VEVENT
UID:fb3dd0e29dd99c12d925ea5b6598fa57
DTSTAMP:20260421T101111Z
SUMMARY:Kosher Pickle Factory
DESCRIPTION:Jewish Federation of West-Central New Jersey\nCommunity Calenda
 r\nhttps://jfedwcnj.org/calendar/kosher-pickle-factory\n\nInstructor: Rabb
 i Mendy Margolin\nFee: Adults $18/person\; Children $8/person\n\nexperien
 ce "The Kosher Pickle Factory" for the very first time. Learn the unique a
 rt of making kosher pickles. Nationally traveled "Rabbi Pickle" is coming 
 from Brooklyn and will teach you how to pickle. You will be taking home yo
 ur own jar of marinated goodies. An activity for the whole family. 
DTSTART;TZID=America/New_York:20151129T113000
DTEND;TZID=America/New_York:20151129T133000
END:VEVENT
END:VCALENDAR
