BEGIN:VCALENDAR
PRODID:-//eluceo/ical//2.0/EN
VERSION:2.0
CALSCALE:GREGORIAN
BEGIN:VEVENT
UID:c455192a9dab9787ccbfc7ba9f88f043
DTSTAMP:20260423T185408Z
SUMMARY:Kosher Gospel Concert at Temple Sholom
DESCRIPTION:Jewish Federation of West-Central New Jersey\nCommunity Calenda
 r\nhttps://jfedwcnj.org/calendar/kosher-gospel-at-temple-sholom-1551215804
 \n\nIn Advance Concert ONLY Tickets $36 (Adults)\, $18 (Youth under 18\, K
 ids under 5 - FREE\nPurchase tickets at the door  $45!\nPlease consider sp
 onsoring this wonderful event!\nPre-show VIP Sponsor’s Reception at 4:00
 pm to include:\nPresentation and Mixer with Cantor Nelson\, signed CD (1 p
 er VIP sign-up) and elegant hors d'oeuvres\nSponsorship Levels:\n$1018 'Pr
 aise the Lord!!' - Tier 1 Reserved Seating\, 8 tickets\n$540 'Glory\, Glor
 y!' - Tier 2 Reserved Seating\, 4 tickets\n$300 'Amen!' - Tier...
DTSTART;TZID=America/New_York:20190519T173000
DTEND;TZID=America/New_York:20190519T220000
END:VEVENT
END:VCALENDAR
