BEGIN:VCALENDAR
PRODID:-//eluceo/ical//2.0/EN
VERSION:2.0
CALSCALE:GREGORIAN
BEGIN:VEVENT
UID:4dd06e54f0552f8e6811e095cd445777
DTSTAMP:20260422T172821Z
SUMMARY:Kosher Food Excursion in Brooklyn with Arthur Schwartz
DESCRIPTION:Jewish Federation of West-Central New Jersey\nCommunity Calenda
 r\nhttps://jfedwcnj.org/calendar/kosher-food-excursion-in-brooklyn-with-ar
 thur-schwartz-1462218684\n\nNo one knows kosher cooking and shopping like 
 Arthur Schwartz! We are extremely fortunate to have Arthur Schwartz as our
  personal tour guide for the day! We will leave the JCC at 8:30 am\, and r
 eturn approximately 5:30 pm. First stop is Arthur&rsquo\;s home for breakf
 ast. Then we are off for a great day in &ldquo\;Kosher&rdquo\; Brooklyn wi
 th Arthur bringing us to some of his favorite Kosher food hotspots. We wil
 l enjoy lunch together at a kosher restaurant. $150/Person (max 12\, min 1
 0) &mdash\;Includes bus\, breakfast...
DTSTART;TZID=America/New_York:20160512T083000
DTEND;TZID=America/New_York:20160512T173000
END:VEVENT
END:VCALENDAR
