BEGIN:VCALENDAR
PRODID:-//eluceo/ical//2.0/EN
VERSION:2.0
CALSCALE:GREGORIAN
BEGIN:VEVENT
UID:cee2fafba99ebacc900fe736ec76c1fd
DTSTAMP:20260425T121551Z
SUMMARY:Kol B'Seder in Concert
DESCRIPTION:Jewish Federation of West-Central New Jersey\nCommunity Calenda
 r\nhttps://jfedwcnj.org/calendar/kol-bseder-in-concert-1699393081\n\nKol B
 ’Seder is one of the earliest and most influential contributors to Jewis
 h Folk music and religious expression. Cantor Jeff Klepper and Rabbi Dan F
 reelander\, the duo behind Kol B’Seder\, will bring their greatest hits 
 and beloved melodies to our community. They’ve been called “perhaps th
 e most famous duo in contemporary Jewish music… often likened to Simon a
 nd Garfunkel.”
DTSTART;TZID=America/New_York:20231203T160000
DTEND;TZID=America/New_York:20231203T173000
END:VEVENT
END:VCALENDAR
