BEGIN:VCALENDAR
PRODID:-//eluceo/ical//2.0/EN
VERSION:2.0
CALSCALE:GREGORIAN
BEGIN:VEVENT
UID:6e573369101c21dd1af14f58638fdbf9
DTSTAMP:20260425T151806Z
SUMMARY:Klezmer and Knishes
DESCRIPTION:Jewish Federation of West-Central New Jersey\nCommunity Calenda
 r\nhttps://jfedwcnj.org/calendar/klezmer-and-knishes-1503520567\n\nIL Pere
 tz Secular Jewish Community Sunday School presents "Klezmer and Knishes"\,
  a family-oriented event to immerse into Jewish culture. 
DTSTART;TZID=America/New_York:20170910T150000
DTEND;TZID=America/New_York:20170910T170000
END:VEVENT
END:VCALENDAR
